BEGIN:VCALENDAR
VERSION:2.0
PRODID:-//eventon.com NONSGML v1.0//EN
CALSCALE:GREGORIAN
METHOD:PUBLISH
BEGIN:VEVENT
UID:69ebb508df099
DTSTAMP:20260424T182304Z
DTSTART:20240525
DTEND:20240526
LOCATION:Temple of Mastery Unit 97/ 2 The Crescent\,  Kingsgrove
SUMMARY:BREATHE
DESCRIPTION:🌬️Find your way back to yourself with the power of your ve
 ry own breath. This is your heartfelt invitation to BREATHE.🌬️  Mark 
 your calendar and prepare to take a deep breath and dive into the transform
 ative realm of breathwork. BREATHE is an immersive experience designed to a
 waken vitality\,  release tension\, [..]\nhttps://movemuse.com.au/events/br
 eathe-may-2024/
URL:https://movemuse.com.au/events/breathe-may-2024/
END:VEVENT
END:VCALENDAR