BEGIN:VCALENDAR
VERSION:2.0
PRODID:-//eventon.com NONSGML v1.0//EN
CALSCALE:GREGORIAN
METHOD:PUBLISH
BEGIN:VEVENT
UID:69eb246543d2f
DTSTAMP:20260424T080557Z
DTSTART:20240419T000000Z
DTEND:20240419T010000Z
LOCATION:Temple of Mastery Unit 97/ 2 The Crescent\,  Kingsgrove
SUMMARY:COSMIC FLOW
DESCRIPTION:Join me in my weekly flow class at Temple of Mastery in Kingsgr
 ove. Link body\,  mind and breath through an intuitive flow that integrates
  the principles of Calligraphy Health (QiGong and internal energetics) to c
 reate harmony with your cells. With consistent practice\,  one can develop 
 advanced body awareness\,  balance their[..]\nhttps://movemuse.com.au/event
 s/cosmic-flow/
URL:https://movemuse.com.au/events/cosmic-flow/
END:VEVENT
END:VCALENDAR