BEGIN:VCALENDAR
VERSION:2.0
PRODID:-//eventon.com NONSGML v1.0//EN
CALSCALE:GREGORIAN
METHOD:PUBLISH
BEGIN:VEVENT
UID:69e5ca55e5690
DTSTAMP:20260420T064021Z
DTSTART:20240816T000000Z
DTEND:20240816T010000Z
LOCATION:Temple of Mastery Unit 97/ 2 The Crescent\,  Kingsgrove
SUMMARY:COSMIC FLOW
DESCRIPTION:Join me in my weekly flow class at Temple of Mastery in Kingsgr
 ove. Link body\,  mind and breath through an intuitive flow that integrates
  the principles of Calligraphy Health (QiGong and internal energetics) to c
 reate harmony with your cells. With consistent practice\,  one can develop 
 advanced body awareness\,  balance their[..]\nhttps://movemuse.com.au/event
 s/cosmic-flow/var/ri-17.l-L1
URL:https://movemuse.com.au/events/cosmic-flow/var/ri-17.l-L1
END:VEVENT
END:VCALENDAR