BEGIN:VCALENDAR
VERSION:2.0
PRODID:-//eventon.com NONSGML v1.0//EN
CALSCALE:GREGORIAN
METHOD:PUBLISH
BEGIN:VEVENT
UID:69ebb759e782a
DTSTAMP:20260424T183257Z
DTSTART:20240712T000000Z
DTEND:20240712T010000Z
LOCATION:Temple of Mastery Unit 97/ 2 The Crescent\,  Kingsgrove
SUMMARY:Calligraphy Health Qigong: Eagle Sequence
DESCRIPTION:📅 Friday 12th July | 10-11am 📍 Temple of Mastery 97/2 Th
 e Crescent\,  Kingsgrove Eagle Spreading it&#8217;s Wings is the third in a
  series of monthly Calligraphy Health Qigong Workshops this year. The Eagle
  Standing sequence is from Master Yang&#8217;s Level 2 Calligraphy Health t
 raining series. Eagle Spreading it&#8217;s Wings is[..]\nhttps://movemuse.c
 om.au/events/calligraphy-health-qigong-workshop-eagle-sequence/
URL:https://movemuse.com.au/events/calligraphy-health-qigong-workshop-eagle-sequence/
END:VEVENT
END:VCALENDAR